BEGIN:VCALENDAR
VERSION:2.0
PRODID:-//ChamberMaster//Event Calendar 2.0//EN
METHOD:PUBLISH
X-PUBLISHED-TTL:P3D
REFRESH-INTERVAL:P3D
CALSCALE:GREGORIAN
BEGIN:VEVENT
DTSTART:20190209T160000Z
DTEND:20190209T200000Z
X-MICROSOFT-CDO-ALLDAYEVENT:FALSE
SUMMARY:AdvisorLAB for component fund advisors
DESCRIPTION:West Central Initiative staff invite component fund advisory committee members to this learning laboratory. Network with other fund advisors\, learn about resources and float trial idea balloons!
X-ALT-DESC;FMTTYPE=text/html:<div class="_63ew" data-testid="event-permalink-details"><span>West Central Initiative staff invite component fund advisory committee members to this learning laboratory. Network with other fund advisors\, learn about resources and float trial idea balloons!</span></div>\n
LOCATION:West Central Initiative 1000 Western Ave Fergus Falls MN
UID:e.314.52476
SEQUENCE:3
DTSTAMP:20260423T091938Z
URL:https://business.fergusfalls.com/events/details/advisorlab-for-component-fund-advisors-52476
END:VEVENT

END:VCALENDAR
