BEGIN:VCALENDAR
VERSION:2.0
PRODID:-//ChamberMaster//Event Calendar 2.0//EN
METHOD:PUBLISH
X-PUBLISHED-TTL:P3D
REFRESH-INTERVAL:P3D
CALSCALE:GREGORIAN
BEGIN:VEVENT
DTSTART:20180330T140000Z
DTEND:20180330T230000Z
X-MICROSOFT-CDO-ALLDAYEVENT:FALSE
SUMMARY:Affinity Plus Lake Alice 100
DESCRIPTION:Hold the date for the 6th annual Affinity Plus Lake Alice 100! More info coming soon...
X-ALT-DESC;FMTTYPE=text/html:<span class="_4n-j _fbReactionComponent__eventDetailsContentTags fsl" data-testid="event-permalink-details">Hold the date for the 6th annual Affinity Plus Lake Alice 100! More info coming soon...</span>
LOCATION:Lake Alice Fergus Falls Mn Fergus Falls\, Minnesota 56537
UID:e.314.47433
SEQUENCE:3
DTSTAMP:20260424T012058Z
URL:https://business.fergusfalls.com/events/details/affinity-plus-lake-alice-100-47433
END:VEVENT

END:VCALENDAR
