BEGIN:VCALENDAR
VERSION:2.0
PRODID:-//ChamberMaster//Event Calendar 2.0//EN
METHOD:PUBLISH
X-PUBLISHED-TTL:P3D
REFRESH-INTERVAL:P3D
CALSCALE:GREGORIAN
BEGIN:VEVENT
DTSTART:20180512T140000Z
DTEND:20180512T230000Z
X-MICROSOFT-CDO-ALLDAYEVENT:FALSE
SUMMARY:Affinity Plus Lake Alice 100
DESCRIPTION:Join us for the 6th running of the world's most compact century ride! Whether you do one lap or all 87\, you are guaranteed to have a good time\, or your money back (it's a free event). Enjoy the historic homes around Lake Alice\, the friendly (?) geese\, music\, food\, and hundreds of your closest friends on bikes.\n\n\n\nNo bike? No problem. We will have bikes available from the Fergus Falls Bike Fleet that can be checked out free of charge.\n\n\n\nRide HQ is located at St. James Episcopal Church on the southwest side of the lake.\n\n\n\nParking for out-of-town visitors is available on the side streets around Lake Alice or in the downtown lots south of the lake.
X-ALT-DESC;FMTTYPE=text/html:<span>Join us for the 6th running of the world&#39\;s most compact century ride! Whether you do one lap or all 87\, you are guaranteed to have a good time\, or your money back (it&#39\;s a free event). Enjoy the historic homes around Lake Alice\, the friendly (?) geese\, music\, food\, and hundreds of your closest friends on bikes.<br />\n<br />\nNo bike? No problem. We will have bikes available from the Fergus Falls Bike Fleet that can be checked out free of charge.<br />\n<br />\nRide HQ is located at <a href="https://www.facebook.com/St-James-Episcopal-Church-260539007371449/"><font color="#0066cc">St. James Episcopal Church</font></a> on the southwest side of the lake.<br />\n<br />\nParking for out-of-town visitors is available on the side streets around Lake Alice or in the downtown lots south of the lake.</span>
LOCATION:Lake Alice Fergus Falls Fergus Falls MN
UID:e.314.48844
SEQUENCE:3
DTSTAMP:20260423T223917Z
URL:https://business.fergusfalls.com/events/details/affinity-plus-lake-alice-100-48844
END:VEVENT

END:VCALENDAR
