BEGIN:VCALENDAR
VERSION:2.0
PRODID:-//ChamberMaster//Event Calendar 2.0//EN
METHOD:PUBLISH
X-PUBLISHED-TTL:P3D
REFRESH-INTERVAL:P3D
CALSCALE:GREGORIAN
BEGIN:VEVENT
DTSTART:20180724T220000Z
DTEND:20180725T003000Z
X-MICROSOFT-CDO-ALLDAYEVENT:FALSE
SUMMARY:AgCountry Farm Credit Services Customer Appreciation Picnic
DESCRIPTION:AgCountry Farm & Credit Services of Fergus Falls coordinately invites you to a special customer appreciation picnic at the Pebble Lake Picnic Shelter.  \n\n\n\nTuesday\, July 24\, 2018\n\n5-7:30PM\n\n \n\nActivities will include yard games & an inflatable bounce house.\n\n\n\nPlease RSVP by Friday July 24th or sooner by phone: 218-739-5221 or 800-757-5221
X-ALT-DESC;FMTTYPE=text/html:<p><strong>AgCountry Farm &amp\; Credit Services of Fergus Falls coordinately invites you to a special customer appreciation picnic at the Pebble Lake Picnic Shelter.&nbsp\; </strong><br />\n<br />\n<b>Tuesday\, July 24\, 2018<br />\n5-7:30PM</b><br />\n&nbsp\;</p>\n\n<p><strong>Activities will include yard games &amp\; an&nbsp\;inflatable bounce house.<br />\n<br />\nPlease&nbsp\;RSVP by Friday July 24th or sooner by phone: 218-739-5221&nbsp\;or 800-757-5221</strong></p>\n
LOCATION:1911 Pebble Lake Golf Drive Fergus Falls
UID:e.314.50014
SEQUENCE:3
DTSTAMP:20260423T200233Z
URL:https://business.fergusfalls.com/events/details/agcountry-farm-credit-services-customer-appreciation-picnic-50014
END:VEVENT

END:VCALENDAR
