BEGIN:VCALENDAR
VERSION:2.0
PRODID:-//ChamberMaster//Event Calendar 2.0//EN
METHOD:PUBLISH
X-PUBLISHED-TTL:P3D
REFRESH-INTERVAL:P3D
CALSCALE:GREGORIAN
BEGIN:VEVENT
DTSTART:20180408T010000Z
DTEND:20180408T023000Z
X-MICROSOFT-CDO-ALLDAYEVENT:FALSE
SUMMARY:Air Supply Live at Dakota Magic Casino!
DESCRIPTION:Air Supply Live at Dakota Magic Casino!\n\n\n\n  Hosted by Air Supply Music and Dakota Magic Casino & Hotel
X-ALT-DESC;FMTTYPE=text/html:<div class="_5gmw">\n<h1 class="_5gmx" data-testid="event-permalink-event-name" id="seo_h1_tag">Air Supply Live at Dakota Magic Casino!</h1>\n\n<div class="_5gnb">\n<div class="_b9-">\n<div content="Air Supply Music &amp\; Dakota Magic Casino &amp\; Hotel" data-testid="event_permalink_feature_line" style="display: inline\;">&middot\; Hosted by <a data-hovercard="/ajax/hovercard/page.php?id=215243435202692" data-hovercard-position="below" href="https://www.facebook.com/AirSupplyMusicOfficialPage/"><font color="#0066cc">Air Supply Music</font></a> and <a data-hovercard="/ajax/hovercard/page.php?id=120341247322" data-hovercard-position="below" href="https://www.facebook.com/DakotaMagicCasino/"><font color="#0066cc">Dakota Magic Casino &amp\; Hotel</font></a></div>\n</div>\n</div>\n</div>\n
LOCATION:16849 102nd St. SE Hankinson\, ND 58041
UID:e.314.44975
SEQUENCE:3
DTSTAMP:20260423T235808Z
URL:https://business.fergusfalls.com/events/details/air-supply-live-at-dakota-magic-casino-44975
END:VEVENT

END:VCALENDAR
