BEGIN:VCALENDAR
VERSION:2.0
PRODID:-//ChamberMaster//Event Calendar 2.0//EN
METHOD:PUBLISH
X-PUBLISHED-TTL:P3D
REFRESH-INTERVAL:P3D
CALSCALE:GREGORIAN
BEGIN:VEVENT
DTSTART:20160514T000000Z
DTEND:20160514T020000Z
X-MICROSOFT-CDO-ALLDAYEVENT:FALSE
SUMMARY:Alice In Wonderland
DESCRIPTION:Come join us for some music and Alice in Wonderland inspired artwork ! So much talent in this show and it's going to be fantastic! So\, don't miss out \;)
X-ALT-DESC;FMTTYPE=text/html:<span style="color: rgb(29\, 33\, 41)\; font-family: helvetica\, arial\, sans-serif\; font-size: 14px\; line-height: 18.76px\; background-color: rgb(255\, 255\, 255)\;">Come join us for some music and Alice in Wonderland inspired artwork ! So much talent in this show and it&#39\;s going to be fantastic! So\, don&#39\;t miss out \;)</span>
LOCATION:pin The Spot Panini & Wine 220 W Lincoln Ave\, Fergus Falls\, Minnesota 56537
UID:e.314.32682
SEQUENCE:3
DTSTAMP:20260425T145603Z
URL:https://business.fergusfalls.com/events/details/alice-in-wonderland-05-13-2016-32682
END:VEVENT

END:VCALENDAR
