BEGIN:VCALENDAR
VERSION:2.0
PRODID:-//ChamberMaster//Event Calendar 2.0//EN
METHOD:PUBLISH
X-PUBLISHED-TTL:P3D
REFRESH-INTERVAL:P3D
CALSCALE:GREGORIAN
BEGIN:VEVENT
DTSTART:20190309T013000Z
DTEND:20190309T030000Z
X-MICROSOFT-CDO-ALLDAYEVENT:FALSE
SUMMARY:Almost\, Maine
DESCRIPTION:Experience love beneath the northern lights\n\nat M State's production of 'Almost\, Maine'\n\n \n\nFERGUS FALLS\, Minn.   Fall in and out of love under the northern lights on a cold\, clear winter night as the Minnesota State Community and Technical College Theatre Department presents a story of love and loss in its spring production of "Almost\, Maine."\n\n \n\nResidents of the mythical almost-town called Almost take the stage on M State's Fergus Falls campus at 7:30 p.m. March 1-2 and 7-9\, and 2 p.m. Sunday\, March 3. The play is directed by Sheri Johnson\, and the technical director is Stefanie Gerhardson.\n\n \n\n"Almost\, Maine" takes place on one magical winter night in nine short vignettes that demonstrate the power of the human heart. As one reviewer described it\, "magical happenings bloom beneath the snowdrifts."\n\n \n\nThe cast of the romantic comedy includes Austin Begley\, Jeremiah Kratzke\, Taylor Larson\, Andrew Rasmusson\, Mariah Seidel and Alise Werner\, all of Fergus Falls\; Blair Anderson of Glenwood\; Sydney Berg of Grand Forks\; Devin Cordahl of Park Rapids\; Kelsea Evans of Wadena\; Nolan Lemna of Breckenridge\; Georgia Molstad of Vining\; and Jacob Woody of Lake Park.\n\n \n\nTickets are $9 in advance and $11 at the door for adults\; and $7 in advance and $8 at the door for students. Tickets are available at the M State Box Office from 9 a.m. to 4 p.m. Monday through Friday (closed for lunch)\, at the door one hour prior to the performance\, by calling 218.736.1600.
X-ALT-DESC;FMTTYPE=text/html:<strong><span style="font-size:18.0pt">Experience love beneath the northern lights<br />\nat M State&rsquo\;s production of &lsquo\;Almost\, Maine&rsquo\;</span></strong><br />\n&nbsp\;<br />\nFERGUS FALLS\, Minn. &ndash\; Fall in and out of love under the northern lights on a cold\, clear winter night as the Minnesota State Community and Technical College Theatre Department presents a story of love and loss in its spring production of &ldquo\;Almost\, Maine.&rdquo\;<br />\n&nbsp\;<br />\nResidents of the mythical almost-town called Almost take the stage on M State&rsquo\;s Fergus Falls campus at 7:30 p.m. March 1-2 and 7-9\, and 2 p.m. Sunday\, March 3. The play is directed by Sheri Johnson\, and the technical director is Stefanie Gerhardson.<br />\n&nbsp\;<br />\n&ldquo\;Almost\, Maine&rdquo\; takes place on one magical winter night in nine short vignettes that demonstrate the power of the human heart. As one reviewer described it\, &ldquo\;magical happenings bloom beneath the snowdrifts.&rdquo\;<br />\n&nbsp\;<br />\nThe cast of the romantic comedy includes Austin Begley\, Jeremiah Kratzke\, Taylor Larson\, Andrew Rasmusson\, Mariah Seidel and Alise Werner\, all of Fergus Falls\; Blair Anderson of Glenwood\; Sydney Berg of Grand Forks\; Devin Cordahl of Park Rapids\; Kelsea Evans of Wadena\; Nolan Lemna of Breckenridge\; Georgia Molstad of Vining\; and Jacob Woody of Lake Park.<br />\n&nbsp\;<br />\n<span style="font-family:calibri\,sans-serif"><span style="font-size:11.0pt">Tickets are $9 in advance and $11 at the door for adults\; and $7 in advance and $8 at the door for students. Tickets are available at the M State Box Office from 9 a.m. to 4 p.m. Monday through Friday (closed for lunch)\, at the door one hour prior to the performance\, by calling 218.736.1600. </span></span>
LOCATION:Waage Theatre
UID:e.314.52580
SEQUENCE:3
DTSTAMP:20260423T080219Z
URL:https://business.fergusfalls.com/events/details/almost-maine-03-08-2019-52580
END:VEVENT

END:VCALENDAR
