BEGIN:VCALENDAR
VERSION:2.0
PRODID:-//ChamberMaster//Event Calendar 2.0//EN
METHOD:PUBLISH
X-PUBLISHED-TTL:P3D
REFRESH-INTERVAL:P3D
CALSCALE:GREGORIAN
BEGIN:VEVENT
DTSTART:20180824T233000Z
DTEND:20180825T010000Z
X-MICROSOFT-CDO-ALLDAYEVENT:FALSE
SUMMARY:American Legion Post #30 Bingo
DESCRIPTION:American Legion Post # 30\n\nRegular Bingo
X-ALT-DESC;FMTTYPE=text/html:American Legion Post # 30<br>\nRegular Bingo<br>\n<br>\n<br>\n<br>\n&nbsp\;
LOCATION:2010 S. Pebble Lake Rd.
UID:e.314.20440
SEQUENCE:3
DTSTAMP:20260423T181359Z
URL:https://business.fergusfalls.com/events/details/american-legion-post-30-bingo-08-24-2018-20440
END:VEVENT

END:VCALENDAR
