BEGIN:VCALENDAR
VERSION:2.0
PRODID:-//ChamberMaster//Event Calendar 2.0//EN
METHOD:PUBLISH
X-PUBLISHED-TTL:P3D
REFRESH-INTERVAL:P3D
CALSCALE:GREGORIAN
BEGIN:VEVENT
DTSTART:20180828T000000Z
DTEND:20180828T010000Z
X-MICROSOFT-CDO-ALLDAYEVENT:FALSE
SUMMARY:American Legion Post #30 Bingo
DESCRIPTION:American Legion Post # 30\n\nRegular Bingo
X-ALT-DESC;FMTTYPE=text/html:<strong>American Legion Post # 30<br />\nRegular Bingo </strong>
LOCATION:2010 S. Pebble Lake Rd.
UID:e.314.20656
SEQUENCE:3
DTSTAMP:20260423T194239Z
URL:https://business.fergusfalls.com/events/details/american-legion-post-30-bingo-08-27-2018-20656
END:VEVENT

END:VCALENDAR
