BEGIN:VCALENDAR
VERSION:2.0
PRODID:-//ChamberMaster//Event Calendar 2.0//EN
METHOD:PUBLISH
X-PUBLISHED-TTL:P3D
REFRESH-INTERVAL:P3D
CALSCALE:GREGORIAN
BEGIN:VEVENT
DTSTART:20180910T210000Z
DTEND:20180910T230000Z
X-MICROSOFT-CDO-ALLDAYEVENT:FALSE
SUMMARY:American National Bank hosts Wissota Kick Off Event
DESCRIPTION:Kick Off to Wissota 100\n\n\n\nMeet Racers Sam Zender and Brock Gronwold
X-ALT-DESC;FMTTYPE=text/html:<span style="font-size:20px\;"><span style="font-family:tahoma\;"><span style="color:#FF0000\;"><strong>Kick Off to Wissota 100</strong></span></span></span><br />\n<br />\n<strong><span style="font-family:tahoma\;">Meet Racers Sam Zender and Brock Gronwold</span></strong>
LOCATION:American National Bank of Minnesota 727 Western Ave. Fergus Falls MN 56537
UID:e.314.50359
SEQUENCE:3
DTSTAMP:20260423T165852Z
URL:https://business.fergusfalls.com/events/details/american-national-bank-hosts-wissota-kick-off-event-50359
END:VEVENT

END:VCALENDAR
