BEGIN:VCALENDAR
VERSION:2.0
PRODID:-//ChamberMaster//Event Calendar 2.0//EN
METHOD:PUBLISH
X-PUBLISHED-TTL:P3D
REFRESH-INTERVAL:P3D
CALSCALE:GREGORIAN
BEGIN:VEVENT
DTSTART:20180509T180000Z
DTEND:20180510T000000Z
X-MICROSOFT-CDO-ALLDAYEVENT:FALSE
SUMMARY:American Red Cross Blood Drive
DESCRIPTION:Blood Drive\n\nIn Fergus Falls\, MN
X-ALT-DESC;FMTTYPE=text/html:<span style="font-family:tahoma\;"><span style="font-size:14px\;"><strong>Blood Drive</strong></span></span><br />\nIn Fergus Falls\, MN<br />\n&nbsp\;
LOCATION:Bigwood Event Center Conference Room 925 Western Ave. Fergus Falls MN 56537
UID:e.314.48852
SEQUENCE:3
DTSTAMP:20260423T224838Z
URL:https://business.fergusfalls.com/events/details/american-red-cross-blood-drive-48852
END:VEVENT

END:VCALENDAR
