BEGIN:VCALENDAR
VERSION:2.0
PRODID:-//ChamberMaster//Event Calendar 2.0//EN
METHOD:PUBLISH
X-PUBLISHED-TTL:P3D
REFRESH-INTERVAL:P3D
CALSCALE:GREGORIAN
BEGIN:VEVENT
DTSTART:20180912T180000Z
DTEND:20180914T000000Z
X-MICROSOFT-CDO-ALLDAYEVENT:FALSE
SUMMARY:American Red Cross Blood Drive
DESCRIPTION:Blood Drive \n\nFergus Falls Community
X-ALT-DESC;FMTTYPE=text/html:<span style="font-size:20px\;"><span style="color:#FF0000\;"><strong>Blood Drive</strong>&nbsp\;</span><br />\nFergus Falls Community</span><br />\n&nbsp\;
LOCATION:National Gaurd Armory 421 E. Cecil Ave. Fergus Falls MN 56537
UID:e.314.50355
SEQUENCE:3
DTSTAMP:20260423T165235Z
URL:https://business.fergusfalls.com/events/details/american-red-cross-blood-drive-50355
END:VEVENT

END:VCALENDAR
