BEGIN:VCALENDAR
VERSION:2.0
PRODID:-//ChamberMaster//Event Calendar 2.0//EN
METHOD:PUBLISH
X-PUBLISHED-TTL:P3D
REFRESH-INTERVAL:P3D
CALSCALE:GREGORIAN
BEGIN:VEVENT
DTSTART:20151003T230000Z
DTEND:20151004T020000Z
X-MICROSOFT-CDO-ALLDAYEVENT:FALSE
SUMMARY:Annual Fall Fundraising Event
DESCRIPTION:Annual Fall Fundraising Event\n\n\n\nSAVE THE DATE!\n\n6:30 pm Festivities Begin 8:00 pm Entertainment: Tim Gabrielson\, comedy & magic
X-ALT-DESC;FMTTYPE=text/html:<span class="title" style="color: rgb(41\, 82\, 163)\;">Annual Fall Fundraising Event</span><br />\n<br />\nSAVE THE DATE!<br />\n6:30 pm Festivities Begin 8:00 pm Entertainment: Tim Gabrielson\, comedy &amp\; magic
LOCATION:Fergus Falls Center For Arts\, 124 West Lincoln Avenue\, Fergus Falls
UID:e.314.24222
SEQUENCE:3
DTSTAMP:20260426T043810Z
URL:https://business.fergusfalls.com/events/details/annual-fall-fundraising-event-10-03-2015-24222
END:VEVENT

END:VCALENDAR
