BEGIN:VCALENDAR
VERSION:2.0
PRODID:-//ChamberMaster//Event Calendar 2.0//EN
METHOD:PUBLISH
X-PUBLISHED-TTL:P3D
REFRESH-INTERVAL:P3D
CALSCALE:GREGORIAN
BEGIN:VEVENT
DTSTART:20171209T190000Z
DTEND:20171209T220000Z
X-MICROSOFT-CDO-ALLDAYEVENT:FALSE
SUMMARY:Annual Kids Christmas Party
DESCRIPTION:Eages Aerie Annual Christmas Party\n\n\n\nSaturday\, December 9th\n\n1pm-4pm Upstairs\n\n\n\nGames & Contests with great prozes in store!\n\n\n\nAnd there will be a special guest arriving around 3pm.
X-ALT-DESC;FMTTYPE=text/html:Eages Aerie Annual Christmas Party<br />\n<br />\nSaturday\, December 9th<br />\n1pm-4pm Upstairs<br />\n<br />\nGames &amp\; Contests with great prozes in store!<br />\n<br />\nAnd there will be a special guest arriving around 3pm.&nbsp\;<br />\n&nbsp\;
LOCATION:Eagles Ship - Upstairs Peck Street\, Fergus Falls
UID:e.314.43316
SEQUENCE:3
DTSTAMP:20260424T073602Z
URL:https://business.fergusfalls.com/events/details/annual-kids-christmas-party-43316
END:VEVENT

END:VCALENDAR
