BEGIN:VCALENDAR
VERSION:2.0
PRODID:-//ChamberMaster//Event Calendar 2.0//EN
METHOD:PUBLISH
X-PUBLISHED-TTL:P3D
REFRESH-INTERVAL:P3D
CALSCALE:GREGORIAN
BEGIN:VEVENT
DTSTART:20161203T210000Z
DTEND:20161203T230000Z
X-MICROSOFT-CDO-ALLDAYEVENT:FALSE
SUMMARY:Annual Service of Remembrance
DESCRIPTION:We offer this once a year time to pay tribute to those we have loved and lost. Whether your loss was recent or decades ago\, whether we've served your family or not\, we welcome you to enjoy this special time of music\, message and reflection.
X-ALT-DESC;FMTTYPE=text/html:We offer this once a year time to pay tribute to those we have loved and lost. Whether your loss was recent or decades ago\, whether we&#39\;ve served your family or not\, we welcome you to enjoy this special time of music\, message and reflection.
LOCATION:Olson Funeral Home 711 Pebble Lake Road
UID:e.314.33019
SEQUENCE:3
DTSTAMP:20260425T022503Z
URL:https://business.fergusfalls.com/events/details/annual-service-of-remembrance-12-03-2016-33019
END:VEVENT

END:VCALENDAR
