BEGIN:VCALENDAR
VERSION:2.0
PRODID:-//ChamberMaster//Event Calendar 2.0//EN
METHOD:PUBLISH
X-PUBLISHED-TTL:P3D
REFRESH-INTERVAL:P3D
CALSCALE:GREGORIAN
BEGIN:VEVENT
DTSTART:20180502T163000Z
DTEND:20180502T180000Z
X-MICROSOFT-CDO-ALLDAYEVENT:FALSE
SUMMARY:AP2B Chili Feed
DESCRIPTION:AP2B Chili Feed 2018!\n\n\n\nHosted by A Place To Belong Fergus Falls\n\n\n\nPlease join our members\, our staff\, and our board of directors for a FREE chili feed on Wednesday\, May 2nd\, 2018! This event is sponsored by our Board as a way to get to know our community through food and conversation about what our club is all about and the services we offer to our members.\n\n\n\nIf you (or someone you know) has been curious about the club and/or is interested in becoming a member\, please stop by for some lunch and a chat. May is Mental Health Awareness month and it is very important to our cause to dispel the stigma behind mental illness and to raise awareness in our beloved community about who we are and what we do.\n\n\n\nPlease bring a friend\, and we'll see you on the 2nd! Chili\, crackers\, and beverages provided.
X-ALT-DESC;FMTTYPE=text/html:<h1 class="_5gmx" data-testid="event-permalink-event-name" id="seo_h1_tag" style="margin: 0px 12px 0px 0px\; padding: 0px\; color: rgb(29\, 33\, 41)\; text-transform: none\; line-height: 28px\; text-indent: 0px\; letter-spacing: normal\; font-family: Helvetica\, Arial\, sans-serif\; font-size: 20px\; font-style: normal\; font-weight: normal\; word-spacing: 0px\; display: block\; white-space: normal\; orphans: 2\; widows: 2\; background-color: rgb(255\, 255\, 255)\; font-variant-ligatures: normal\; font-variant-caps: normal\; -webkit-text-stroke-width: 0px\; text-decoration-style: initial\; text-decoration-color: initial\;">AP2B Chili Feed 2018!</h1>\n\n<div class="_5gnb" style="margin: 2px 12px 0px 0px\; color: rgb(144\, 148\, 156)\; text-transform: none\; line-height: 18px\; text-indent: 0px\; letter-spacing: normal\; font-family: Helvetica\, Arial\, sans-serif\; font-size: 14px\; font-style: normal\; font-weight: 400\; word-spacing: 0px\; white-space: normal\; orphans: 2\; widows: 2\; background-color: rgb(255\, 255\, 255)\; font-variant-ligatures: normal\; font-variant-caps: normal\; -webkit-text-stroke-width: 0px\; text-decoration-style: initial\; text-decoration-color: initial\;">\n<div class="_b9-" style="font-family: inherit\; display: inline\;">\n<div content="A Place To Belong Fergus Falls" data-testid="event_permalink_feature_line" style="font-family: inherit\; display: inline\;">Hosted by<span>&nbsp\;</span><a data-hovercard="/ajax/hovercard/page.php?id=171286513593709" data-hovercard-position="below" href="https://www.facebook.com/A-Place-To-Belong-Fergus-Falls-171286513593709/" style="color: rgb(54\, 88\, 153)\; font-family: inherit\; text-decoration: none\; cursor: pointer\;">A Place To Belong Fergus Falls</a><br />\n<br />\n<span style="color: rgb(29\, 33\, 41)\; text-transform: none\; text-indent: 0px\; letter-spacing: normal\; font-family: Helvetica\, Arial\, sans-serif\; font-size: 14px\; font-style: normal\; font-weight: 400\; word-spacing: 0px\; float: none\; display: inline !important\; white-space: normal\; orphans: 2\; widows: 2\; background-color: rgb(255\, 255\, 255)\; font-variant-ligatures: normal\; font-variant-caps: normal\; -webkit-text-stroke-width: 0px\; text-decoration-style: initial\; text-decoration-color: initial\;">Please join our members\, our staff\, and our board of directors for a FREE chili feed on Wednesday\, May 2nd\, 2018! This event is sponsored by our Board as a way to get to know our community through food and conversation about what our club is all about and the services we offer to our members.</span><br style="color: rgb(29\, 33\, 41)\; text-transform: none\; text-indent: 0px\; letter-spacing: normal\; font-family: Helvetica\, Arial\, sans-serif\; font-size: 14px\; font-style: normal\; font-weight: 400\; word-spacing: 0px\; white-space: normal\; orphans: 2\; widows: 2\; background-color: rgb(255\, 255\, 255)\; font-variant-ligatures: normal\; font-variant-caps: normal\; -webkit-text-stroke-width: 0px\; text-decoration-style: initial\; text-decoration-color: initial\;" />\n<br style="color: rgb(29\, 33\, 41)\; text-transform: none\; text-indent: 0px\; letter-spacing: normal\; font-family: Helvetica\, Arial\, sans-serif\; font-size: 14px\; font-style: normal\; font-weight: 400\; word-spacing: 0px\; white-space: normal\; orphans: 2\; widows: 2\; background-color: rgb(255\, 255\, 255)\; font-variant-ligatures: normal\; font-variant-caps: normal\; -webkit-text-stroke-width: 0px\; text-decoration-style: initial\; text-decoration-color: initial\;" />\n<span style="color: rgb(29\, 33\, 41)\; text-transform: none\; text-indent: 0px\; letter-spacing: normal\; font-family: Helvetica\, Arial\, sans-serif\; font-size: 14px\; font-style: normal\; font-weight: 400\; word-spacing: 0px\; float: none\; display: inline !important\; white-space: normal\; orphans: 2\; widows: 2\; background-color: rgb(255\, 255\, 255)\; font-variant-ligatures: normal\; font-variant-caps: normal\; -webkit-text-stroke-width: 0px\; text-decoration-style: initial\; text-decoration-color: initial\;">If you (or someone you know) has been curious about the club and/or is interested in becoming a member\, please stop by for some lunch and a chat. May is Mental Health Awareness month and it is very important to our cause to dispel the stigma behind mental illness and to raise awareness in our beloved community about who we are and what we do.</span><br style="color: rgb(29\, 33\, 41)\; text-transform: none\; text-indent: 0px\; letter-spacing: normal\; font-family: Helvetica\, Arial\, sans-serif\; font-size: 14px\; font-style: normal\; font-weight: 400\; word-spacing: 0px\; white-space: normal\; orphans: 2\; widows: 2\; background-color: rgb(255\, 255\, 255)\; font-variant-ligatures: normal\; font-variant-caps: normal\; -webkit-text-stroke-width: 0px\; text-decoration-style: initial\; text-decoration-color: initial\;" />\n<br style="color: rgb(29\, 33\, 41)\; text-transform: none\; text-indent: 0px\; letter-spacing: normal\; font-family: Helvetica\, Arial\, sans-serif\; font-size: 14px\; font-style: normal\; font-weight: 400\; word-spacing: 0px\; white-space: normal\; orphans: 2\; widows: 2\; background-color: rgb(255\, 255\, 255)\; font-variant-ligatures: normal\; font-variant-caps: normal\; -webkit-text-stroke-width: 0px\; text-decoration-style: initial\; text-decoration-color: initial\;" />\n<span style="color: rgb(29\, 33\, 41)\; text-transform: none\; text-indent: 0px\; letter-spacing: normal\; font-family: Helvetica\, Arial\, sans-serif\; font-size: 14px\; font-style: normal\; font-weight: 400\; word-spacing: 0px\; float: none\; display: inline !important\; white-space: normal\; orphans: 2\; widows: 2\; background-color: rgb(255\, 255\, 255)\; font-variant-ligatures: normal\; font-variant-caps: normal\; -webkit-text-stroke-width: 0px\; text-decoration-style: initial\; text-decoration-color: initial\;">Please bring a friend\, and we&#39\;ll see you on the 2nd! Chili\, crackers\, and beverages provided.</span></div>\n</div>\n</div>\n
LOCATION:A Place To Belong 109 N Court St. Fergus Falls
UID:e.314.48842
SEQUENCE:3
DTSTAMP:20260423T223917Z
URL:https://business.fergusfalls.com/events/details/ap2b-chili-feed-48842
END:VEVENT

END:VCALENDAR
