BEGIN:VCALENDAR
VERSION:2.0
PRODID:-//ChamberMaster//Event Calendar 2.0//EN
METHOD:PUBLISH
X-PUBLISHED-TTL:P3D
REFRESH-INTERVAL:P3D
CALSCALE:GREGORIAN
BEGIN:VEVENT
DTSTART:20181006T190000Z
DTEND:20181006T210000Z
X-MICROSOFT-CDO-ALLDAYEVENT:FALSE
SUMMARY:Apple Dumpling Day
DESCRIPTION:PioneerCare Auxiliary hosts its annual Apple Dumpling Day on Saturday\, Oct. 6 from 2:00 p.m. to 4:00 p.m. Guests will enjoy warm apple dumplings and ice cream\, do some early Christmas shopping\, register to win the quilt raffle\, and stock up on goods from Granny's Pantry. Those who have produce\, home-canned goods\, or specialty baked items to contribute may drop them off at the care center by 4:00 on Friday\, Oct. 5.
X-ALT-DESC;FMTTYPE=text/html:<div class="_63ew" data-testid="event-permalink-details"><span>PioneerCare Auxiliary hosts its annual Apple Dumpling Day on Saturday\, Oct. 6 from 2:00 p.m. to 4:00 p.m. Guests will enjoy warm apple dumplings and ice cream\, do some early Christmas shopping\, register to win the quilt raffle\, and stock up on goods from Granny&rsquo\;s Pantry. Those who have produce\, home-canned goods\, or specialty baked items to contribute may drop them off at the care center by 4:00 on Friday\, Oct. 5.</span></div>\n
LOCATION:PioneerCare 1131 S Mabelle Ave Fergus Falls MN
UID:e.314.50399
SEQUENCE:3
DTSTAMP:20260423T150529Z
URL:https://business.fergusfalls.com/events/details/apple-dumpling-day-50399
END:VEVENT

END:VCALENDAR
