BEGIN:VCALENDAR
VERSION:2.0
PRODID:-//ChamberMaster//Event Calendar 2.0//EN
METHOD:PUBLISH
X-PUBLISHED-TTL:P3D
REFRESH-INTERVAL:P3D
CALSCALE:GREGORIAN
BEGIN:VEVENT
DTSTART:20151003T190000Z
DTEND:20151003T210000Z
X-MICROSOFT-CDO-ALLDAYEVENT:FALSE
SUMMARY:Apple Dumpling Day at PioneerCare
DESCRIPTION:PioneerCare Auxiliary's annual fall fundraiser and get-together is Saturday\, October 3.  Hot Apple Dumplings\, cider\, coffee and other treats will be on sale. Purchase homemade canned goods and produce as well as crafts\, books\, jewelry and other gift items. Quilt raffle tickets will be on sale right up until 4:00 pm when the winner's ticket will be drawn. Come and shop for birthdays or Christmas!  All proceeds benefit residents at PioneerCare.
X-ALT-DESC;FMTTYPE=text/html:PioneerCare&nbsp\;Auxiliary&#39\;s annual fall&nbsp\;fundraiser and get-together is Saturday\, October 3.&nbsp\; Hot Apple Dumplings\, cider\, coffee&nbsp\;and other treats will be on sale.&nbsp\;Purchase homemade canned goods and produce&nbsp\;as well as crafts\, books\, jewelry and other gift items.&nbsp\;Quilt raffle tickets will be on sale right up until 4:00 pm when the winner&#39\;s ticket will be drawn. Come and shop for birthdays or Christmas!&nbsp\; All proceeds benefit residents at PioneerCare.
LOCATION:PioneerCare Celebration Center and Garden Courtyard. 1131 S Mabelle Ave\, Fergus Falls
UID:e.314.6332
SEQUENCE:3
DTSTAMP:20260426T030014Z
URL:https://business.fergusfalls.com/events/details/apple-dumpling-day-at-pioneercare-10-03-2015-6332
END:VEVENT

END:VCALENDAR
