BEGIN:VCALENDAR
VERSION:2.0
PRODID:-//ChamberMaster//Event Calendar 2.0//EN
METHOD:PUBLISH
X-PUBLISHED-TTL:P3D
REFRESH-INTERVAL:P3D
CALSCALE:GREGORIAN
BEGIN:VEVENT
DTSTART:20191115T183000Z
DTEND:20191115T191500Z
X-MICROSOFT-CDO-ALLDAYEVENT:FALSE
SUMMARY:Apple Tree Dental Fergus Falls Center Groundbreaking Event
DESCRIPTION:Apple Tree Dental is pleased to announce construction of a new Fergus Falls Center for Dental Health on Western Avenue that will improve access to dental care for low-income families and people with special needs in West Central Minnesota   those not easily served by other dentists. Apple Tree Dental's CEO\, Dr. Michael Helgeson\, welcomes everyone to a Groundbreaking Event on Friday\, November 15th at 12:30 pm\, at the AmericInn by Wyndham at 526 Western Avenue in Fergus Falls. Please see the full press release on our website (under the News & Resources tab) for more information about this exciting project to expand access to dental care in Fergus Falls and the surrounding region.
X-ALT-DESC;FMTTYPE=text/html:Apple Tree Dental is pleased to announce construction of a new Fergus Falls Center for Dental Health on Western Avenue that will improve access to dental care for low-income families and people with special needs in West Central Minnesota &mdash\; those not easily served by other dentists. Apple Tree Dental&rsquo\;s CEO\, Dr. Michael Helgeson\, welcomes everyone to a Groundbreaking Event on Friday\, November 15th at 12:30 pm\, at the AmericInn by Wyndham at 526 Western Avenue in Fergus Falls. Please see the full press release on our website (under the News &amp\; Resources tab) for more information about this exciting project to expand access to dental care in Fergus Falls and the surrounding region.
LOCATION:AmericInn by Wyndham 526 Western Avenue Fergus Falls\, MN 56537
UID:e.314.55810
SEQUENCE:3
DTSTAMP:20260422T190226Z
URL:https://business.fergusfalls.com/events/details/apple-tree-dental-fergus-falls-center-groundbreaking-event-55810
END:VEVENT

END:VCALENDAR
