BEGIN:VCALENDAR
VERSION:2.0
PRODID:-//ChamberMaster//Event Calendar 2.0//EN
METHOD:PUBLISH
X-PUBLISHED-TTL:P3D
REFRESH-INTERVAL:P3D
CALSCALE:GREGORIAN
BEGIN:VEVENT
DTSTART:20160409T143000Z
DTEND:20160409T190000Z
X-MICROSOFT-CDO-ALLDAYEVENT:FALSE
SUMMARY:April is Diamond Month at Mauk Jewelers!
DESCRIPTION:Celebrate Diamond Month at Mauk Jewelers with great discounts on our large assortment of loose diamonds. Are you planning an upcoming engagement? Now is the time to get a true deal on your center diamond! \n\n\n\nWith a selection of loose diamonds to match almost any budget\, our educated and experienced sales team can help you find just what you (or your significant other) are looking for.\n\n\n\nStop in today or give us a call. We're here for you!\n\n\n\nLocated in downtown Fergus Falls.
X-ALT-DESC;FMTTYPE=text/html:Celebrate Diamond Month at Mauk Jewelers with great discounts on our large assortment of loose diamonds. Are you planning an upcoming engagement? Now is the time to get a true deal on your center diamond!&nbsp\;<br>\n<br>\nWith a selection of loose diamonds to match almost any budget\, our educated and experienced sales team can help you find just what you (or your significant other) are looking for.<br>\n<br>\nStop in today or give us a call. We're here for you!<br>\n<br>\nLocated in downtown Fergus Falls.<br>\n<br>\n&nbsp\;
LOCATION:Mauk Jewelers
UID:e.314.32444
SEQUENCE:3
DTSTAMP:20260425T164419Z
URL:https://business.fergusfalls.com/events/details/april-is-diamond-month-at-mauk-jewelers-04-09-2016-32444
END:VEVENT

END:VCALENDAR
