BEGIN:VCALENDAR
VERSION:2.0
PRODID:-//ChamberMaster//Event Calendar 2.0//EN
METHOD:PUBLISH
X-PUBLISHED-TTL:P3D
REFRESH-INTERVAL:P3D
CALSCALE:GREGORIAN
BEGIN:VEVENT
DTSTART:20180623T150000Z
DTEND:20180623T180000Z
X-MICROSOFT-CDO-ALLDAYEVENT:FALSE
SUMMARY:Aqua Chautauqua 2018
DESCRIPTION:Aqua Chautauqua 2018\n\n \nAqua Chautauqua is a family-oriented event that brings people together to learn and share about the water resources in our communities. Expert speakers and facilitators will present theater\, art\, hands-on demonstrations\, and recreational activities all centered on our lakes\, streams\, rivers\, wetlands\, and what they mean to us.
X-ALT-DESC;FMTTYPE=text/html:<strong>Aqua Chautauqua 2018</strong><br />\n&nbsp\;\n<div class="_63ew"><span>Aqua Chautauqua is a family-oriented event that brings people together to learn and share about the water resources in our communities. Expert speakers and facilitators will present theater\, art\, hands-on demonstrations\, and recreational activities all centered on our lakes\, streams\, rivers\, wetlands\, and what they mean to us.</span></div>\n
LOCATION:Fergus Falls Minnesota
UID:e.314.48848
SEQUENCE:3
DTSTAMP:20260423T212519Z
URL:https://business.fergusfalls.com/events/details/aqua-chautauqua-2018-48848
END:VEVENT

END:VCALENDAR
