BEGIN:VCALENDAR
VERSION:2.0
PRODID:-//ChamberMaster//Event Calendar 2.0//EN
METHOD:PUBLISH
X-PUBLISHED-TTL:P3D
REFRESH-INTERVAL:P3D
CALSCALE:GREGORIAN
BEGIN:VEVENT
DTSTART:20160512T230000Z
DTEND:20160513T030000Z
X-MICROSOFT-CDO-ALLDAYEVENT:FALSE
SUMMARY:Art @ Home - Fundraising Event for Kaddatz Gallery
DESCRIPTION:A progressive art party to benefit Kaddatz Galleries\n\nYou are cordially invited to the homes of MacFarlane - Mathison - Wasson\n\n \n\nArt @ home\n\n\n	View private art collections\n	Socialize with other art lovers\n	Enjoy wine and food pairings\n	Learn how to incorporate art in your life\n\n\n\nThursday\, May 12\, 2016\n\n6-10 pm\n\n$75 a ticket\n\n\n\nOnly 75 tickets available! Advance Purchase Required.\n\nPurchase at the Kaddatz Galleries\, 111 W Lincoln Ave\, Fergus Falls\n\nOr call 218-998-4405
X-ALT-DESC;FMTTYPE=text/html:<span style="font-size:14px\;"><span style="font-size:16px\;"><strong><span style="color:#800080\;">A progressive art party to benefit Kaddatz Galleries<br />\nYou are cordially invited to the homes of MacFarlane - Mathison - Wasson</span><br />\n<span style="color:#000000\;">&#8203\;</span></strong></span><br />\n<span style="color:#000000\;"><strong><span style="font-size:18px\;">Art @ home</span></strong></span></span>\n\n<ul>\n	<li><span style="font-size:16px\;"><span style="color:#000000\;"><strong>View private art collections</strong></span></span></li>\n	<li><span style="font-size:16px\;"><span style="color:#000000\;"><strong>Socialize with other art lovers</strong></span></span></li>\n	<li><span style="font-size:16px\;"><span style="color:#000000\;"><strong>Enjoy wine and food pairings</strong></span></span></li>\n	<li><span style="font-size:16px\;"><strong><span style="color:#000000\;">Learn how to incorporate art in your lif</span>e</strong></span></li>\n</ul>\n<br />\n<span style="color:#800080\;"><span style="font-size:14px\;"><strong><span style="font-size:18px\;">Thursday\, May 12\, 2016<br />\n6-10 pm<br />\n$75 a ticket</span></strong></span></span><br />\n<br />\n<span style="color:#000000\;"><span style="font-size:14px\;"><strong><span style="font-size:16px\;">Only 75 tickets available!</span><em><span style="font-size:16px\;">&nbsp\;</span></em>Advance Purchase Required.<br />\nPurchase at the Kaddatz Galleries\, 111 W Lincoln Ave\, Fergus Falls<br />\nOr call 218-998-4405</strong></span></span>
LOCATION:Homes of MacFarlane\, Mathison\, Wasson
UID:e.314.24031
SEQUENCE:3
DTSTAMP:20260425T163432Z
URL:https://business.fergusfalls.com/events/details/art-home-fundraising-event-for-kaddatz-gallery-05-12-2016-24031
END:VEVENT

END:VCALENDAR
