BEGIN:VCALENDAR
VERSION:2.0
PRODID:-//ChamberMaster//Event Calendar 2.0//EN
METHOD:PUBLISH
X-PUBLISHED-TTL:P3D
REFRESH-INTERVAL:P3D
CALSCALE:GREGORIAN
BEGIN:VEVENT
DTSTART:20180823T160000Z
DTEND:20180824T020000Z
X-MICROSOFT-CDO-ALLDAYEVENT:FALSE
SUMMARY:Art on Lincoln
DESCRIPTION:We are now accepting applications for our first "Art on Lincoln". On Thursday\, August 23rd\, the Center will welcome artists and artisans to display and sell their original work on historic Lincoln Ave "Main Street". The event will be held from 11AM-9PM. Concerts in the Park will be moved downtown with a bluegrass performance given by the Darrell Webb Band in the evening. The event will conclude with a movie showing at City Hall Park. All local and area artists/artisans are invited to submit an application through our website in the link below.\n\n\n\nhttp://fergusarts.org/home/art-on-lincoln/
X-ALT-DESC;FMTTYPE=text/html:<div class="_63ew" data-testid="event-permalink-details"><span>We are now accepting applications for our first &ldquo\;Art on Lincoln&rdquo\;. On Thursday\, August 23rd\, the Center will welcome artists and artisans to display and sell their original work on historic Lincoln Ave &ldquo\;Main Street&rdquo\;. The event will be held from 11AM-9PM. Concerts in the Park will be moved downtown with a bluegrass performance given by the Darrell Webb Band in the evening. The event will conclude with a movie showing at City Hall Park. All local and area artists/artisans are invited to submit an application through our website in the link below.<br />\n<br />\n<a data-lynx-mode="hover" data-lynx-uri="http://l.facebook.com/l.php?u=http%3A%2F%2Ffergusarts.org%2Fhome%2Fart-on-lincoln%2F&amp\;h=AT3KYeaa6SqQ5JH6nY7cM9J2lpJl38Gnnr245izIBtThvtDVmfeEYr2Pk9eIIy5ut-EBpByqtRxbwmLPpOgZ9zQ3OPwqDZXJowzWM6OgwPIgYl_N1jQMI7V2tisuTzPu" href="http://fergusarts.org/home/art-on-lincoln/" rel="nofollow" target="_blank"><font color="#0066cc">http://fergusarts.org/home/art-on-lincoln/</font></a></span></div>\n
LOCATION:124 W Lincoln Ave Fergus Falls
UID:e.314.50312
SEQUENCE:3
DTSTAMP:20260423T193738Z
URL:https://business.fergusfalls.com/events/details/art-on-lincoln-50312
END:VEVENT

END:VCALENDAR
