BEGIN:VCALENDAR
VERSION:2.0
PRODID:-//ChamberMaster//Event Calendar 2.0//EN
METHOD:PUBLISH
X-PUBLISHED-TTL:P3D
REFRESH-INTERVAL:P3D
CALSCALE:GREGORIAN
BEGIN:VEVENT
DTSTART:20160407T190000Z
DTEND:20160407T220000Z
X-MICROSOFT-CDO-ALLDAYEVENT:FALSE
SUMMARY:Art & Public Health Workshop
DESCRIPTION:Join Springboard for the Arts and PartnerSHIP 4 Health for a workshop about how artists can help make communities more healthy places. Participants who attend the workshop will be eligible for up to $1500 in project support for an art/public health project in their community. Must live or work in Becker\, Otter Tail\, Wilkin or Clay Counties to be eligible to participate. For a full schedule of workshops in the region\, click on this link: http://us1.campaign-archive1.com/?u=def3cfab5165985113426145f&id=a3651aab8e&e=5e438ef77d Registration is required\, and space is limited.
X-ALT-DESC;FMTTYPE=text/html:Join Springboard for the Arts and PartnerSHIP 4 Health for a workshop about how artists can help make communities more healthy places. Participants who attend the workshop will be eligible for up to $1500 in project support for an art/public health project in their community. Must live or work in Becker\, Otter Tail\, Wilkin or Clay Counties to be eligible to participate. For a full schedule of workshops in the region\, click on this link: http://us1.campaign-archive1.com/?u=def3cfab5165985113426145f&amp\;id=a3651aab8e&amp\;e=5e438ef77d Registration is required\, and space is limited.
LOCATION:Lakes Country Service Cooperative 1001 E Mt Faith Fergus Falls\, MN 56537
UID:e.314.32377
SEQUENCE:3
DTSTAMP:20260425T163023Z
URL:https://business.fergusfalls.com/events/details/art-public-health-workshop-04-07-2016-32377
END:VEVENT

END:VCALENDAR
