BEGIN:VCALENDAR
VERSION:2.0
PRODID:-//ChamberMaster//Event Calendar 2.0//EN
METHOD:PUBLISH
X-PUBLISHED-TTL:P3D
REFRESH-INTERVAL:P3D
CALSCALE:GREGORIAN
BEGIN:VEVENT
DTSTART:20160329T213000Z
DTEND:20160329T223000Z
X-MICROSOFT-CDO-ALLDAYEVENT:FALSE
SUMMARY:Artist Meet & Greet: Mary Rothlisberger
DESCRIPTION:Please join us in welcoming Mary to Fergus Falls for our Hinge Arts Residency program for Creative Placemaking in collaboration with PartnerSHIP 4 Health. Mary will be with us from March 21- April 30\, 2015. Come and visit with Mary at The Spot and learn about her projects and ideas for her residency. Mary Rothlisberger is a citizen artist working in collaboration with remote landscapes and rural communities. Her work is conversational and research-based\, in response to the social\, built\, and natural environments we situate ourselves within. She collaborates with local schools\, city councils\, arts organizations\, youth groups\, summer camps\, libraries\, neighbors\, and friends to build cooperative environments that encourage civic engagement\, radical education\, and community progress. Website: http://bangbangboomerang.com/
X-ALT-DESC;FMTTYPE=text/html:Please join us in welcoming Mary to Fergus Falls for our Hinge Arts Residency program for Creative Placemaking in collaboration with PartnerSHIP 4 Health. Mary will be with us from March 21- April 30\, 2015. Come and visit with Mary at The Spot and learn about her projects and ideas for her residency. Mary Rothlisberger is a citizen artist working in collaboration with remote landscapes and rural communities. Her work is conversational and research-based\, in response to the social\, built\, and natural environments we situate ourselves within. She collaborates with local schools\, city councils\, arts organizations\, youth groups\, summer camps\, libraries\, neighbors\, and friends to build cooperative environments that encourage civic engagement\, radical education\, and community progress. Website: http://bangbangboomerang.com/
LOCATION:The Spot Panini & Wine
UID:e.314.32333
SEQUENCE:3
DTSTAMP:20260425T201309Z
URL:https://business.fergusfalls.com/events/details/artist-meet-greet-mary-rothlisberger-03-29-2016-32333
END:VEVENT

END:VCALENDAR
