BEGIN:VCALENDAR
VERSION:2.0
PRODID:-//ChamberMaster//Event Calendar 2.0//EN
METHOD:PUBLISH
X-PUBLISHED-TTL:P3D
REFRESH-INTERVAL:P3D
CALSCALE:GREGORIAN
BEGIN:VEVENT
DTSTART:20180429T003000Z
DTEND:20180429T023000Z
X-MICROSOFT-CDO-ALLDAYEVENT:FALSE
SUMMARY:Artrageous!
DESCRIPTION:Imagine an artist creating a masterpiece before your eyes in mere moments\, with a palette that also mixes captivating vocals and intricate choreography. Dance\, sing\, and reminisce with vibrant performances of songs we love. A full band\, more singers than you can count and the energy of a full audience to delight your senses.\n\n\n\nOur final 2017-18 Center Series Event\n\nTickets: $24 adults / $8 students
X-ALT-DESC;FMTTYPE=text/html:<span class="_4n-j _fbReactionComponent__eventDetailsContentTags fsl" data-testid="event-permalink-details">Imagine an artist creating a masterpiece before your eyes in mere moments\, with a palette that also mixes captivating vocals and intricate choreography. Dance\, sing\, and reminisce with vibrant performances of songs we love. A full band\, more singers than you can count and the energy of a full audience to delight your senses.<br />\n<br />\nOur final 2017-18 Center Series Event<br />\nTickets: $24 adults / $8 students</span>
LOCATION:A Center for the Arts 124 W Lincoln Ave
UID:e.314.44967
SEQUENCE:3
DTSTAMP:20260423T235041Z
URL:https://business.fergusfalls.com/events/details/artrageous-44967
END:VEVENT

END:VCALENDAR
