BEGIN:VCALENDAR
VERSION:2.0
PRODID:-//ChamberMaster//Event Calendar 2.0//EN
METHOD:PUBLISH
X-PUBLISHED-TTL:P3D
REFRESH-INTERVAL:P3D
CALSCALE:GREGORIAN
BEGIN:VEVENT
DTSTART:20181218T180000Z
DTEND:20181218T190000Z
X-MICROSOFT-CDO-ALLDAYEVENT:FALSE
SUMMARY:ARTS NETWORKING BROWN BAG LUNCH
DESCRIPTION:Stay connected\; share ideas\, news and events\; develop partnerships\; build a stronger arts community! Open to artists\, arts administrators\, community members\, and anyone interested in the arts. BYOBBL (Bring your own brown bag lunch)!
X-ALT-DESC;FMTTYPE=text/html:<p><span style="font-size: 14px\;"><span style="font-family: open sans\,sans-serif\;">Stay connected\; share ideas\, news and events\; develop partnerships\; build a stronger arts community! Open to artists\, arts administrators\, community members\, and anyone interested in the arts. BYOBBL (Bring your own brown bag lunch)!</span></span></p>\n
LOCATION:Kaddatz Galleries\, Studio K
UID:e.314.33335
SEQUENCE:3
DTSTAMP:20260423T122236Z
URL:https://business.fergusfalls.com/events/details/arts-networking-brown-bag-lunch-12-18-2018-33335
END:VEVENT

END:VCALENDAR
