BEGIN:VCALENDAR
VERSION:2.0
PRODID:-//ChamberMaster//Event Calendar 2.0//EN
METHOD:PUBLISH
X-PUBLISHED-TTL:P3D
REFRESH-INTERVAL:P3D
CALSCALE:GREGORIAN
BEGIN:VEVENT
DTSTART:20171017T170000Z
DTEND:20171017T180000Z
X-MICROSOFT-CDO-ALLDAYEVENT:FALSE
SUMMARY:Arts Networking Lunch - Holiday Art Crawl Planning
DESCRIPTION:This Arts Networking Meeting will be the first meeting for artists and organizations interested in being involved in the Holiday Art Crawl. We will divvy out responsibilities\, decide on a date\, and brainstorm new ideas. We hope you can attend!\n\n\n\nStay connected\; share ideas\, news and events\; develop partnerships\; build a stronger arts community! Open to artists\, arts administrators\, community members\, and anyone interested in the arts. BYOBBL (Bring your own brown bag lunch)!\n\n\n\nBring along any flyers\, brochures\, or information about upcoming events and opportunities in the arts.\n\n\n\nWe will meet in StudioK at the Kaddatz Gallery.
X-ALT-DESC;FMTTYPE=text/html:<span class="_4n-j _fbReactionComponent__eventDetailsContentTags fsl" data-testid="event-permalink-details">This Arts Networking Meeting will be the first meeting for artists and organizations interested in being involved in the Holiday Art Crawl. We will divvy out responsibilities\, decide on a date\, and brainstorm new ideas. We hope you can attend!<br />\n<br />\nStay connected\; share ideas\, news and events\; develop partnerships\; build a stronger arts community! Open to artists\, arts administrators\, community members\, and anyone interested in the arts. BYOBBL (Bring your own brown bag lunch)!<br />\n<br />\nBring along any flyers\, brochures\, or information about upcoming events and opportunities in the arts.<br />\n<br />\nWe will meet in StudioK at the Kaddatz Gallery.</span>
LOCATION:Kaddatz Gallery 111 W Lincoln Ave Fergus Falls MN
UID:e.314.41610
SEQUENCE:3
DTSTAMP:20260424T092539Z
URL:https://business.fergusfalls.com/events/details/arts-networking-lunch-holiday-art-crawl-planning-41610
END:VEVENT

END:VCALENDAR
