BEGIN:VCALENDAR
VERSION:2.0
PRODID:-//ChamberMaster//Event Calendar 2.0//EN
METHOD:PUBLISH
X-PUBLISHED-TTL:P3D
REFRESH-INTERVAL:P3D
CALSCALE:GREGORIAN
BEGIN:VEVENT
DTSTART:20160625T150000Z
DTEND:20160625T210000Z
X-MICROSOFT-CDO-ALLDAYEVENT:FALSE
SUMMARY:Arts Resource Fair
DESCRIPTION:What is an "Arts Resource Fair"? It is an event that provides regional artists and state wide arts organizations the opportunity to meet and get to know each other. The "Arts Resource Fair" is a time to connect\, communicate\, and create community. Artists will have the opportunity to meet and talk with grant makers\, exhibition/performance venues\, and a variety of organizations that want to help them become a better artist\, singer\, dancer\, writer or performer. There will be panel discussions\, workshops and guest speakers. By attending\, an artist will be better prepared to advance with their career goals and become aware of new opportunities to contribute to the growth and vitality of their communities. Supported by the Arts and Cultural Heritage Fund\, the "Arts Resource Fair" is free to all variety of artists. Registration is required to ensure that there are enough materials and food for everyone. Deadline to register is June 17th\, 2016. Register by going to http://b it.ly/ArtsResourceFair2016
X-ALT-DESC;FMTTYPE=text/html:What is an &quot\;Arts Resource Fair&quot\;? It is an event that provides regional artists and state wide arts organizations the opportunity to meet and get to know each other. The &quot\;Arts Resource Fair&quot\; is a time to connect\, communicate\, and create community. Artists will have the opportunity to meet and talk with grant makers\, exhibition/performance venues\, and a variety of organizations that want to help them become a better artist\, singer\, dancer\, writer or performer. There will be panel discussions\, workshops and guest speakers. By attending\, an artist will be better prepared to advance with their career goals and become aware of new opportunities to contribute to the growth and vitality of their communities. Supported by the Arts and Cultural Heritage Fund\, the &quot\;Arts Resource Fair&quot\; is free to all variety of artists. Registration is required to ensure that there are enough materials and food for everyone. Deadline to register is June 17th\, 2016. Register by going to http://b it.ly/ArtsResourceFair2016
LOCATION:Fergus Falls MState Campus 1414 College Way
UID:e.314.32870
SEQUENCE:3
DTSTAMP:20260425T125248Z
URL:https://business.fergusfalls.com/events/details/arts-resource-fair-06-25-2016-32870
END:VEVENT

END:VCALENDAR
