BEGIN:VCALENDAR
VERSION:2.0
PRODID:-//ChamberMaster//Event Calendar 2.0//EN
METHOD:PUBLISH
X-PUBLISHED-TTL:P3D
REFRESH-INTERVAL:P3D
CALSCALE:GREGORIAN
BEGIN:VEVENT
DTSTART:20160624T220000Z
DTEND:20160624T233000Z
X-MICROSOFT-CDO-ALLDAYEVENT:FALSE
SUMMARY:Arts Resource Fair Celebration
DESCRIPTION:Please join the Lake Region Arts Council in a celebration of the 2016 Arts Resource Fair! There will be a classical trio featuring Amanda Nygarrd and Caley and Caitlin Pieper\, the Showcase of Members of Art of Lakes Gallery\, scuptures from Mary Williams\, chocolate from Terroir Chocolate\, and wine from Carlos Creek.
X-ALT-DESC;FMTTYPE=text/html:<span style="color: rgb(75\, 79\, 86)\; font-family: helvetica\, arial\, sans-serif\; font-size: 14px\; line-height: 18.76px\;">Please join the Lake Region Arts Council&nbsp\;in a celebration of the 2016 Arts Resource Fair! There will be a classical trio featuring Amanda Nygarrd and Caley and Caitlin Pieper\, the Showcase of Members of Art of Lakes Gallery\, scuptures from Mary Williams\, chocolate from Terroir Chocolate\, and wine from Carlos Creek.</span>
LOCATION:Lake Region Arts Council\, 133 S Mill Street\, Fergus Falls
UID:e.314.32903
SEQUENCE:3
DTSTAMP:20260425T125408Z
URL:https://business.fergusfalls.com/events/details/arts-resource-fair-celebration-06-24-2016-32903
END:VEVENT

END:VCALENDAR
