BEGIN:VCALENDAR
VERSION:2.0
PRODID:-//ChamberMaster//Event Calendar 2.0//EN
METHOD:PUBLISH
X-PUBLISHED-TTL:P3D
REFRESH-INTERVAL:P3D
CALSCALE:GREGORIAN
BEGIN:VEVENT
DTSTART:20200205T160000Z
DTEND:20200205T170000Z
X-MICROSOFT-CDO-ALLDAYEVENT:FALSE
SUMMARY:Pre-Register for Recycling Activities - ASN
DESCRIPTION:Class #2032-WS20\n\nInstructor:  Cedar Walters\n\n\n\nJoin staff at the OTC Recycling Center for fun activities related to recycling and protecting the planet! We will learn about recycling\, practice sorting recycling and make recycled art projects.
X-ALT-DESC;FMTTYPE=text/html:Class #2032-WS20<br />\nInstructor:&nbsp\; Cedar Walters<br />\n<br />\nJoin staff at the OTC Recycling Center for fun activities related to recycling and protecting the planet! We will learn about recycling\, practice sorting recycling and make recycled art projects.
LOCATION:Otter Tail County Recycling Center\, 1115 N. Tower Rd.\, Fergus Falls\, MN
UID:e.314.55626
SEQUENCE:3
DTSTAMP:20260422T142633Z
URL:https://business.fergusfalls.com/events/details/asn-class-recycled-papermaking-activity-pre-register-55626
END:VEVENT

END:VCALENDAR
