BEGIN:VCALENDAR
VERSION:2.0
PRODID:-//ChamberMaster//Event Calendar 2.0//EN
METHOD:PUBLISH
X-PUBLISHED-TTL:P3D
REFRESH-INTERVAL:P3D
CALSCALE:GREGORIAN
BEGIN:VEVENT
DTSTART:20180915T160000Z
DTEND:20180915T190000Z
X-MICROSOFT-CDO-ALLDAYEVENT:FALSE
SUMMARY:Author Book Signing with Vernal Lind
DESCRIPTION:Local Author Vernal Lind will be in the store with his latest book "The Future Wears a Strange Face" on Saturday\, September 15th from 11 - 1.\n\n\n\nMeet the Author\n\nVernal Lind grew up in the Leaf Hills on a farm in West-Central Minnesota\, not far from Inspiration Peak. He graduated from St. Cloud State University with B.S. and M.S. degrees. He also attended a number of other colleges and universities to do post-graduate work. He taught English for 36 years at the senior high level--and one year at the college or university level.\n\n\n\nHe moved to Battle Lake\, MN after retirement. Presently\, he is a freelance writer and an active volunteer\; published in GRIT\, CAPPERS\, LIFEWISE\, TEACHERS OF VISION and other periodicals\; and his stories appear in WRITING SO HEAVEN WILL BE DIFFERENT\, RIDING THE AIRWAVES\, and OTTER TAIL REVIEW (anthologies). He writes a regular column for TEACHERS OF VISION as well as occasional articles.
X-ALT-DESC;FMTTYPE=text/html:<span>Local Author Vernal Lind will be in the store with his latest book &quot\;The Future Wears a Strange Face&quot\; on Saturday\, September 15th from 11 - 1.<br />\n<br />\nMeet the Author<br />\nVernal Lind grew up in the Leaf Hills on a farm in West-Central Minnesota\, not far from Inspiration Peak. He graduated from St. Cloud State University with B.S. and M.S. degrees. He also attended a number of other colleges and universities to do post-graduate work. He taught English for 36 years at the senior high level--and one year at the college or university level.<br />\n<br />\nHe moved to Battle Lake\, MN after retirement. Presently\, he is a freelance writer and an active volunteer\; published in GRIT\, CAPPERS\, LIFEWISE\, TEACHERS OF VISION and other periodicals\; and his stories appear in WRITING SO HEAVEN WILL BE DIFFERENT\, RIDING THE AIRWAVES\, and OTTER TAIL REVIEW (anthologies). He writes a regular column for TEACHERS OF VISION as well as occasional articles.</span>
LOCATION:Victor Lundeen Company Lincoln Ave Fergus Falls
UID:e.314.50325
SEQUENCE:3
DTSTAMP:20260423T181202Z
URL:https://business.fergusfalls.com/events/details/author-book-signing-with-vernal-lind-50325
END:VEVENT

END:VCALENDAR
