BEGIN:VCALENDAR
VERSION:2.0
PRODID:-//ChamberMaster//Event Calendar 2.0//EN
METHOD:PUBLISH
X-PUBLISHED-TTL:P3D
REFRESH-INTERVAL:P3D
CALSCALE:GREGORIAN
BEGIN:VEVENT
DTSTART;VALUE=DATE:20160417
DTEND;VALUE=DATE:20160424
TRANSP:TRANSPARENT
X-MICROSOFT-CDO-ALLDAYEVENT:TRUE
SUMMARY:Baby Sale!
DESCRIPTION:Come shop at the Fergus Falls Target Store and spend $250 on select Nursery items and receive a $50.00 Gift Card. Save money on baby furniture and bedding!  To get the coupon\, text NURSERY to TARGET (827438)
X-ALT-DESC;FMTTYPE=text/html:Come shop at the Fergus Falls Target Store and spend $250 on select Nursery items and receive a $50.00 Gift Card. Save money on&nbsp\;baby furniture and bedding!&nbsp\;&nbsp\;To get the coupon\, text NURSERY to TARGET (827438)
LOCATION:Fergus Falls Target
UID:e.314.32632
SEQUENCE:3
DTSTAMP:20260425T163036Z
URL:https://business.fergusfalls.com/events/details/baby-sale-04-17-2016-32632
END:VEVENT

END:VCALENDAR
