BEGIN:VCALENDAR
VERSION:2.0
PRODID:-//ChamberMaster//Event Calendar 2.0//EN
METHOD:PUBLISH
X-PUBLISHED-TTL:P3D
REFRESH-INTERVAL:P3D
CALSCALE:GREGORIAN
BEGIN:VEVENT
DTSTART:20160405T143000Z
DTEND:20160405T150000Z
X-MICROSOFT-CDO-ALLDAYEVENT:FALSE
SUMMARY:Baby & Toddler Storytime - Public Library
DESCRIPTION:Baby & Toddler Storytime - Public Library\n\nTuesdays\; 9:30am-10am\n\nThrough April 5th\n\nAgs 0-2
X-ALT-DESC;FMTTYPE=text/html:<div><strong><span class="_5v1l"><a href="https://www.facebook.com/events/203511823331376/?ref=1&amp\;action_history=%5B%7B%22surface%22%3A%22permalink%22%2C%22mechanism%22%3A%22surface%22%2C%22extra_data%22%3A%5B%5D%7D%5D"><font color="#0066cc">Baby &amp\; Toddler Storytime</font></a> - Public Library<br />\nTuesdays\; 9:30am-10am<br />\nThrough April 5th<br />\nAgs 0-2 </span></strong></div>\n
LOCATION:Fergus Falls Public Library 205 Hampden Ave\, Fergus Falls\, Minnesota 56537
UID:e.314.30933
SEQUENCE:3
DTSTAMP:20260425T163434Z
URL:https://business.fergusfalls.com/events/details/baby-toddler-storytime-public-library-04-05-2016-30933
END:VEVENT

END:VCALENDAR
