BEGIN:VCALENDAR
VERSION:2.0
PRODID:-//ChamberMaster//Event Calendar 2.0//EN
METHOD:PUBLISH
X-PUBLISHED-TTL:P3D
REFRESH-INTERVAL:P3D
CALSCALE:GREGORIAN
BEGIN:VEVENT
DTSTART:20161117T140000Z
DTEND:20161117T210000Z
X-MICROSOFT-CDO-ALLDAYEVENT:FALSE
SUMMARY:Bake Sale
DESCRIPTION:Fergus Falls Senior Center Holiday Bake Sale
X-ALT-DESC;FMTTYPE=text/html:Fergus Falls Senior Center Holiday Bake Sale
LOCATION:115 W. Lincoln Fergus Falls\, MN
UID:e.314.36574
SEQUENCE:3
DTSTAMP:20260425T034658Z
URL:https://business.fergusfalls.com/events/details/bake-sale-36574
END:VEVENT

END:VCALENDAR
