BEGIN:VCALENDAR
VERSION:2.0
PRODID:-//ChamberMaster//Event Calendar 2.0//EN
METHOD:PUBLISH
X-PUBLISHED-TTL:P3D
REFRESH-INTERVAL:P3D
CALSCALE:GREGORIAN
BEGIN:VEVENT
DTSTART:20181205T170000Z
DTEND:20181206T010000Z
X-MICROSOFT-CDO-ALLDAYEVENT:FALSE
SUMMARY:Band Fundraiser at Taco John's
DESCRIPTION:Taco John's  will be holding a fundraiser for the Fergus Falls High School Band program on\n\nWednesday\, December 5th from 11am   7pm.\n\n\n\nTaco John's  will donate 20% of all sales during that time directly to our program. Come and enjoy a great meal while supporting the band!\n\n\n\nPlease show this flyer when ordering\, either on paper or on your smartphone\, to qualify for the fundraiser.\n\n\n\nThanks for your support!
X-ALT-DESC;FMTTYPE=text/html:<div class="_63ew" data-testid="event-permalink-details"><span>Taco John&rsquo\;s&reg\; will be holding a fundraiser for the Fergus Falls High School Band program on<br />\nWednesday\, December 5th from 11am &ndash\; 7pm.<br />\n<br />\nTaco John&rsquo\;s&reg\; will donate 20% of all sales during that time directly to our program. Come and enjoy a great meal while supporting the band!<br />\n<br />\nPlease show this flyer when ordering\, either on paper or on your smartphone\, to qualify for the fundraiser.<br />\n<br />\nThanks for your support!</span></div>\n
LOCATION:
UID:e.314.52014
SEQUENCE:3
DTSTAMP:20260423T122056Z
URL:https://business.fergusfalls.com/events/details/band-fundraiser-at-taco-john-s-52014
END:VEVENT

END:VCALENDAR
