BEGIN:VCALENDAR
VERSION:2.0
PRODID:-//ChamberMaster//Event Calendar 2.0//EN
METHOD:PUBLISH
X-PUBLISHED-TTL:P3D
REFRESH-INTERVAL:P3D
CALSCALE:GREGORIAN
BEGIN:VEVENT
DTSTART:20170323T160000Z
DTEND:20170324T030000Z
X-MICROSOFT-CDO-ALLDAYEVENT:FALSE
SUMMARY:Band Funraiser at Don Pablo's
DESCRIPTION:Eat at Don Pablo's on March 23rd and 15% of the proceeds will be given to the Fergus Falls Band Program to help reduce the cost of our Philadelphia and Washington D.C. trip.
X-ALT-DESC;FMTTYPE=text/html:<span class="_4n-j _3cht fsl" data-testid="event-permalink-details">Eat at Don Pablo&#39\;s on March 23rd and 15% of the proceeds will be given to the Fergus Falls Band Program to help reduce the cost of our Philadelphia and Washington D.C. trip.</span>
LOCATION:Don Pablo's Mexican Restaurant 108 E Lincoln Ave\, Fergus Falls
UID:e.314.38924
SEQUENCE:3
DTSTAMP:20260424T210207Z
URL:https://business.fergusfalls.com/events/details/band-funraiser-at-don-pablo-s-38924
END:VEVENT

END:VCALENDAR
