BEGIN:VCALENDAR
VERSION:2.0
PRODID:-//ChamberMaster//Event Calendar 2.0//EN
METHOD:PUBLISH
X-PUBLISHED-TTL:P3D
REFRESH-INTERVAL:P3D
CALSCALE:GREGORIAN
BEGIN:VEVENT
DTSTART:20170101T160000Z
DTEND:20170101T233000Z
X-MICROSOFT-CDO-ALLDAYEVENT:FALSE
SUMMARY:Bands At the Eagles
DESCRIPTION:Bands at the Eagles Ship\n\nNite Owls * 10am-2pm (downstairs)\n\nThunder Ridge * 1:30-5:30 pm (upstairs)
X-ALT-DESC;FMTTYPE=text/html:Bands at the Eagles Ship<br />\nNite Owls * 10am-2pm (downstairs)<br />\nThunder Ridge * 1:30-5:30 pm (upstairs)
LOCATION:
UID:e.314.37267
SEQUENCE:3
DTSTAMP:20260425T002720Z
URL:https://business.fergusfalls.com/events/details/bands-at-the-eagles-37267
END:VEVENT

END:VCALENDAR
