BEGIN:VCALENDAR
VERSION:2.0
PRODID:-//ChamberMaster//Event Calendar 2.0//EN
METHOD:PUBLISH
X-PUBLISHED-TTL:P3D
REFRESH-INTERVAL:P3D
CALSCALE:GREGORIAN
BEGIN:VEVENT
DTSTART;VALUE=DATE:20160601
DTEND;VALUE=DATE:20160602
TRANSP:TRANSPARENT
X-MICROSOFT-CDO-ALLDAYEVENT:TRUE
SUMMARY:Bank of the West Celebrates!
DESCRIPTION:We are doing an open house style Celebration to Honor Dave Schneeberger for his 35 year Anniversary with Bank of the West.  Stop in and congratulate him anytime on Wednesday June 1st at Bank of the West\, he would love to see you!
X-ALT-DESC;FMTTYPE=text/html:We are doing an open house style Celebration to <strong><em>Honor Dave Schneeberger</em></strong> for his <strong>35 year Anniversary </strong>with <strong>Bank of the West</strong>.&nbsp\; Stop in and congratulate him anytime on Wednesday June 1st at Bank of the West\, he would love to see you!<br />\n&nbsp\;
LOCATION:Bank of the West 120 N Mill St Fergus Falls\, MN 56537
UID:e.314.32790
SEQUENCE:3
DTSTAMP:20260425T150136Z
URL:https://business.fergusfalls.com/events/details/bank-of-the-west-celebrates-06-01-2016-32790
END:VEVENT

END:VCALENDAR
