BEGIN:VCALENDAR
VERSION:2.0
PRODID:-//ChamberMaster//Event Calendar 2.0//EN
METHOD:PUBLISH
X-PUBLISHED-TTL:P3D
REFRESH-INTERVAL:P3D
CALSCALE:GREGORIAN
BEGIN:VEVENT
DTSTART:20180928T160000Z
DTEND:20180928T180000Z
X-MICROSOFT-CDO-ALLDAYEVENT:FALSE
SUMMARY:Bank of the West Fall Open House
DESCRIPTION:We would love for you to join us for our Fall Open House! We will have Grilled Hotdogs and chips\, and giveaways (while supplies lasts). \n\n\n\nFriday Sept.\, 28th\, 2018\n\n11:00 AM - 1:00 PM\n\nBank of the West 120 N Mill St. Fergus Falls (218) 739-0200
X-ALT-DESC;FMTTYPE=text/html:We would love for you to join us for our Fall Open House! We will have Grilled Hotdogs and chips\, and giveaways (while supplies lasts).&nbsp\;<br />\n<br />\nFriday&nbsp\;Sept.\, 28th\, 2018<br />\n11:00 AM - 1:00 PM<br />\nBank of the West 120 N Mill St. Fergus Falls (218) 739-0200
LOCATION:Bank of the West 120 N Mill St Fergus Falls\, MN 56537
UID:e.314.50368
SEQUENCE:3
DTSTAMP:20260423T181506Z
URL:https://business.fergusfalls.com/events/details/bank-of-the-west-fall-open-house-50368
END:VEVENT

END:VCALENDAR
