BEGIN:VCALENDAR
VERSION:2.0
PRODID:-//ChamberMaster//Event Calendar 2.0//EN
METHOD:PUBLISH
X-PUBLISHED-TTL:P3D
REFRESH-INTERVAL:P3D
CALSCALE:GREGORIAN
BEGIN:VEVENT
DTSTART:20170101T210000Z
DTEND:20170102T000000Z
X-MICROSOFT-CDO-ALLDAYEVENT:FALSE
SUMMARY:Bar Bingo at the Eagles
DESCRIPTION:Play Bar Bingo At The Eagles New Years Day!\n\n3PM
X-ALT-DESC;FMTTYPE=text/html:Play Bar Bingo At The Eagles New Years Day!<br />\n3PM
LOCATION:Peck st Fergus Falls\, MN\, United States 56537
UID:e.314.37266
SEQUENCE:3
DTSTAMP:20260425T002820Z
URL:https://business.fergusfalls.com/events/details/bar-bingo-at-the-eagles-37266
END:VEVENT

END:VCALENDAR
