BEGIN:VCALENDAR
VERSION:2.0
PRODID:-//ChamberMaster//Event Calendar 2.0//EN
METHOD:PUBLISH
X-PUBLISHED-TTL:P3D
REFRESH-INTERVAL:P3D
CALSCALE:GREGORIAN
BEGIN:VEVENT
DTSTART:20181013T150000Z
DTEND:20181013T200000Z
X-MICROSOFT-CDO-ALLDAYEVENT:FALSE
SUMMARY:Beauty and the Bric
DESCRIPTION:So many fun things to do when you swing into The Bric for "Beauty and the Bric"- pampering services\, amazing fall clothing\, sweet treats and so much more. Grab a friend and make the time to enjoy all things beautiful.
X-ALT-DESC;FMTTYPE=text/html:<span style="color: rgb(29\, 33\, 41)\; font-family: Helvetica\, Arial\, sans-serif\; font-size: 14px\; background-color: rgb(255\, 255\, 255)\;">So many fun things to do when you swing into The Bric for &quot\;Beauty and the Bric&quot\;- pampering services\, amazing fall clothing\, sweet treats and so much more. Grab a friend and make the time to enjoy all things beautiful.</span>
LOCATION:The bric 215 W Lincoln Ave Fergus Falls
UID:e.314.50468
SEQUENCE:3
DTSTAMP:20260423T150743Z
URL:https://business.fergusfalls.com/events/details/beauty-and-the-bric-50468
END:VEVENT

END:VCALENDAR
