BEGIN:VCALENDAR
VERSION:2.0
PRODID:-//ChamberMaster//Event Calendar 2.0//EN
METHOD:PUBLISH
X-PUBLISHED-TTL:P3D
REFRESH-INTERVAL:P3D
CALSCALE:GREGORIAN
BEGIN:VEVENT
DTSTART:20200208T160000Z
DTEND:20200208T210000Z
X-MICROSOFT-CDO-ALLDAYEVENT:FALSE
SUMMARY:Beauty & The Bric
DESCRIPTION:Beauty & The Bric\n\n \nBack and better than ever! More sampling- more specials-more prizes! More reasons to grab your friends and come on down!\n\nWatch this page for details from our hosting vendors!
X-ALT-DESC;FMTTYPE=text/html:Beauty &amp\; The Bric<br />\n&nbsp\;\n<div class="_63ew" data-testid="event-permalink-details"><span>Back and better than ever! More sampling- more specials-more prizes! More reasons to grab your friends and come on down!<br />\nWatch this page for details from our hosting vendors!</span></div>\n
LOCATION:The Bric 215 W Lincoln Ave Fergus Falls MN
UID:e.314.56207
SEQUENCE:3
DTSTAMP:20260422T142731Z
URL:https://business.fergusfalls.com/events/details/beauty-the-bric-56207
END:VEVENT

END:VCALENDAR
