BEGIN:VCALENDAR
VERSION:2.0
PRODID:-//ChamberMaster//Event Calendar 2.0//EN
METHOD:PUBLISH
X-PUBLISHED-TTL:P3D
REFRESH-INTERVAL:P3D
CALSCALE:GREGORIAN
BEGIN:VEVENT
DTSTART:20190120T200000Z
DTEND:20190120T230000Z
X-MICROSOFT-CDO-ALLDAYEVENT:FALSE
SUMMARY:Before The Flood
DESCRIPTION:There will be a free showing of the film\, "Before the Flood"\, on January 20th at 2:00 p.m.\, at the Center for the Arts in Fergus Falls. Academy Award winning filmmaker Fisher Stevens and actor\, environmental activist\, Leonardo DiCaprio\, collaborated on the project which presents the riveting account of changes now occurring around the world due to climate change. The film follows DiCaprio as he travels to five continents and the Arctic speaking to scientists\, world leaders\, activists and residents to gain a deeper understanding of this complex issue and investigate possible solutions. The showing of the film will be followed by refreshments and an optional discussion for those who would like to learn more about climate change issues and what they might do to participate in a respectful\, nonpartisan approach towards fair\, effective and sustainable solutions.
X-ALT-DESC;FMTTYPE=text/html:There will be a free showing of the film\, &ldquo\;Before the Flood&rdquo\;\, on January 20th at 2:00 p.m.\, at the Center for the Arts in Fergus Falls. Academy Award winning filmmaker Fisher Stevens and actor\, environmental activist\, Leonardo DiCaprio\, collaborated on the project which presents the riveting account of changes now occurring around the world due to climate change. The film follows DiCaprio as he travels to five continents and the Arctic speaking to scientists\, world leaders\, activists and residents to gain a deeper understanding of this complex issue and investigate possible solutions. The showing of the film will be followed by refreshments and an optional discussion for those who would like to learn more about climate change issues and what they might do to participate in a respectful\, nonpartisan approach towards fair\, effective and sustainable solutions.
LOCATION:A Center For the Arts\, Fergus Falls
UID:e.314.52445
SEQUENCE:3
DTSTAMP:20260423T105212Z
URL:https://business.fergusfalls.com/events/details/before-the-flood-52445
END:VEVENT

END:VCALENDAR
