BEGIN:VCALENDAR
VERSION:2.0
PRODID:-//ChamberMaster//Event Calendar 2.0//EN
METHOD:PUBLISH
X-PUBLISHED-TTL:P3D
REFRESH-INTERVAL:P3D
CALSCALE:GREGORIAN
BEGIN:VEVENT
DTSTART:20161117T170000Z
DTEND:20161117T210000Z
X-MICROSOFT-CDO-ALLDAYEVENT:FALSE
SUMMARY:Bell State Bank-FF - Thanksgiving Open House
DESCRIPTION:Please join us for an open house at our Fergus Falls location. \n\nWe will have Thanksgiving treats a the City Bakery Fergus Falls and Service Food Market.  You can also register to win one of two Thanksgiving feasts.  No purchase is necessary to win prizes.
X-ALT-DESC;FMTTYPE=text/html:Please join us for an open house at our Fergus Falls location.&nbsp\;<br />\nWe will have Thanksgiving treats a the City Bakery Fergus Falls and Service Food Market. &nbsp\;You can also register to win one of two Thanksgiving feasts. &nbsp\;No purchase is necessary to win prizes.&nbsp\;
LOCATION:205 W. Washington Ave. Fergus Falls
UID:e.314.36644
SEQUENCE:3
DTSTAMP:20260425T040642Z
URL:https://business.fergusfalls.com/events/details/bell-state-bank-ff-thanksgiving-open-house-36644
END:VEVENT

END:VCALENDAR
