BEGIN:VCALENDAR
VERSION:2.0
PRODID:-//ChamberMaster//Event Calendar 2.0//EN
METHOD:PUBLISH
X-PUBLISHED-TTL:P3D
REFRESH-INTERVAL:P3D
CALSCALE:GREGORIAN
BEGIN:VEVENT
DTSTART:20180803T150000Z
DTEND:20180804T010000Z
X-MICROSOFT-CDO-ALLDAYEVENT:FALSE
SUMMARY:BeMobile Annual Backpack Giveaway
DESCRIPTION:BeMobile is excited to announce that they will again be supporting their communities by giving back during the Fifth Annual Backpack Giveaway! Last year BeMobile gave away 3\,000 backpacks across communities in ND\, SD\, MN\, IA\, and WI. The giveaway has been met with positive reactions from both the stores and communities\, so much so\, that 4\,000 backpacks will be given away this year! These backpacks are filled with common elementary school supplies such as pencils\, crayons\, markers and more! There is no purchase necessary to receive a backpack\, but there is a limit on one backpack per child to ensure as many children receive backpacks as possible. Children must be present. This event will continue throughout the day while supply lasts!
X-ALT-DESC;FMTTYPE=text/html:BeMobile is excited to announce that they will again be supporting their communities by giving back during the Fifth Annual Backpack Giveaway! Last year BeMobile gave away 3\,000 backpacks across communities in ND\, SD\, MN\, IA\, and WI. The giveaway has been met with positive reactions from both the stores and communities\, so much so\, that 4\,000 backpacks will be given away this year! These backpacks are filled with common elementary school supplies such as pencils\, crayons\, markers and more! There is no purchase necessary to receive a backpack\, but there is a limit on one backpack per child to ensure as many children receive backpacks as possible. Children must be present. This event will continue throughout the day while supply lasts!
LOCATION:BeMobile Verizon 409 W Lincoln Ave Fergus Falls\, MN 56537
UID:e.314.50282
SEQUENCE:3
DTSTAMP:20260423T180953Z
URL:https://business.fergusfalls.com/events/details/bemobile-annual-backpack-giveaway-50282
END:VEVENT

END:VCALENDAR
