BEGIN:VCALENDAR
VERSION:2.0
PRODID:-//ChamberMaster//Event Calendar 2.0//EN
METHOD:PUBLISH
X-PUBLISHED-TTL:P3D
REFRESH-INTERVAL:P3D
CALSCALE:GREGORIAN
BEGIN:VEVENT
DTSTART:20160808T143000Z
DTEND:20160811T200000Z
X-MICROSOFT-CDO-ALLDAYEVENT:FALSE
SUMMARY:Bethel Lutheran Church - Day Camp
DESCRIPTION:Day Camp is hosted by Bethel Church and led by Inspiration Point summer staff\, built around the I-Point theme for the year\, "Unshakable."\n\n\n\nREGISTER: http://goo.gl/forms/iHS97RPKMM\n\n(You must officially register)\n\n\n\nAges: Entering 1st - 6th grade\n\nDates: August 8-11\n\nTimes: 9:00 AM - 3:00 PM\n\n\n\n  The children will need to bring a sack lunch with them each day (snacks will be provided).\n\n\n\nCLOSING PROGRAM: Thursday\, August 11th at 6:00 PM
X-ALT-DESC;FMTTYPE=text/html:<span class="_4n-j fsl">Day Camp is hosted by Bethel Church and led by Inspiration Point summer staff\, built around the I-Point theme for the year\, &ldquo\;Unshakable.&rdquo\;<br />\n<br />\nREGISTER: <a href="http://l.facebook.com/l.php?u=http%3A%2F%2Fgoo.gl%2Fforms%2FiHS97RPKMM&amp\;h=SAQFrveHf&amp\;enc=AZPQOiKL4MzY-5I4sNvfTaYaO4PuvGol067Vq1YRWmPSkSnRg6IiFp_RspSphQIPghA&amp\;s=1" rel="nofollow nofollow" target="_blank"><font color="#0066cc"><span>http://goo.gl/forms/</span><wbr /></font><font color="#0066cc">iHS97RPKMM</font></a><br />\n(You must officially register)<br />\n<br />\nAges: Entering 1st - 6th grade<br />\nDates: August 8-11<br />\nTimes: 9:00 AM - 3:00 PM<br />\n<br />\n&gt\; The children will need to bring a sack lunch with them each day (snacks will be provided).<br />\n<br />\nCLOSING PROGRAM: Thursday\, August 11th at 6:00 PM</span>
LOCATION:Show Map Bethel Lutheran Church 702 W Alcott Ave\, Fergus Falls\, Minnesota 56537
UID:e.314.33096
SEQUENCE:3
DTSTAMP:20260425T111020Z
URL:https://business.fergusfalls.com/events/details/bethel-lutheran-church-day-camp-08-08-2016-33096
END:VEVENT

END:VCALENDAR
