BEGIN:VCALENDAR
VERSION:2.0
PRODID:-//ChamberMaster//Event Calendar 2.0//EN
METHOD:PUBLISH
X-PUBLISHED-TTL:P3D
REFRESH-INTERVAL:P3D
CALSCALE:GREGORIAN
BEGIN:VEVENT
DTSTART:20160705T230000Z
DTEND:20160708T010000Z
X-MICROSOFT-CDO-ALLDAYEVENT:FALSE
SUMMARY:Bethel Sports Camp
DESCRIPTION:Bethel Church Kids Sports Camp\n\n\n\nREGISTER HERE: http://bethellutheran.church/events/sports-camp-2016/\n\n\n\nVarious sports are offered\, including basketball\, football\, baseball\, soccer\, volleyball\, and cheerleading. The teaching for the week focuses on sportsmanship with Jesus being our ultimate example of love and grace\, even in the midst of sports competition.\n\n\n\nThis is for children entering 1st through 4th grade in the fall of 2016.
X-ALT-DESC;FMTTYPE=text/html:<span style="color: rgb(75\, 79\, 86)\; font-family: helvetica\, arial\, sans-serif\; font-size: 14px\; line-height: 18.76px\;">Bethel Church Kids Sports Camp<br />\n<br />\nREGISTER HERE:&nbsp\;</span><a href="http://bethellutheran.church/events/sports-camp-2016/" rel="nofollow nofollow" style="color: rgb(54\, 88\, 153)\; cursor: pointer\; text-decoration: none\; font-family: helvetica\, arial\, sans-serif\; font-size: 14px\; line-height: 18.76px\;" target="_blank">http://<wbr />bethellutheran.church/<wbr />events/sports-camp-2016/</a><br style="color: rgb(75\, 79\, 86)\; font-family: helvetica\, arial\, sans-serif\; font-size: 14px\; line-height: 18.76px\;" />\n<br style="color: rgb(75\, 79\, 86)\; font-family: helvetica\, arial\, sans-serif\; font-size: 14px\; line-height: 18.76px\;" />\n<span style="color: rgb(75\, 79\, 86)\; font-family: helvetica\, arial\, sans-serif\; font-size: 14px\; line-height: 18.76px\;">Various sports are offered\, including basketball\, football\, baseball\, soccer\, volleyball\, and cheerleading. The teaching for the week focuses on sportsmanship with Jesus being our ultimate example of love and grace\, even in the midst of sports competition.</span><br style="color: rgb(75\, 79\, 86)\; font-family: helvetica\, arial\, sans-serif\; font-size: 14px\; line-height: 18.76px\;" />\n<br style="color: rgb(75\, 79\, 86)\; font-family: helvetica\, arial\, sans-serif\; font-size: 14px\; line-height: 18.76px\;" />\n<span style="color: rgb(75\, 79\, 86)\; font-family: helvetica\, arial\, sans-serif\; font-size: 14px\; line-height: 18.76px\;">This is for children entering 1st through 4th grade in the fall of 2016.</span>
LOCATION:Bethel Lutheran Church 702 W Alcott Ave\, Fergus Falls\, Minnesota 56537
UID:e.314.32921
SEQUENCE:3
DTSTAMP:20260425T111802Z
URL:https://business.fergusfalls.com/events/details/bethel-sports-camp-07-05-2016-32921
END:VEVENT

END:VCALENDAR
