BEGIN:VCALENDAR
VERSION:2.0
PRODID:-//ChamberMaster//Event Calendar 2.0//EN
METHOD:PUBLISH
X-PUBLISHED-TTL:P3D
REFRESH-INTERVAL:P3D
CALSCALE:GREGORIAN
BEGIN:VEVENT
DTSTART:20160716T140000Z
DTEND:20160716T170000Z
X-MICROSOFT-CDO-ALLDAYEVENT:FALSE
SUMMARY:Bicycle Ride for Refugees
DESCRIPTION:30 Mile Ride: Underwood Community Park to and through Glendalough State Park and back to Underwood. Support vehicle will be provided. All Riders are required to register and must wear helmets. Riders 12-16 yrs old must be accompanied by an adult. Under 12 must be attached to adults bike. Bring your own water bottles. There will be a mandatory bike safety clinic prior to the ride. Riders are welcome to get pledges for miles ridden to raise funds for the schools for the children of the Shan families.
X-ALT-DESC;FMTTYPE=text/html:30 Mile Ride: Underwood Community Park to and through Glendalough State Park and back to Underwood. Support vehicle will be provided. All Riders are required to register and must wear helmets. Riders 12-16 yrs old must be accompanied by an adult. Under 12 must be attached to adults bike. Bring your own water bottles. There will be a mandatory bike safety clinic prior to the ride. Riders are welcome to get pledges for miles ridden to raise funds for the schools for the children of the Shan families.
LOCATION:Underwood Community Park to and through Glendalough State Park and back to Underwood.
UID:e.314.32847
SEQUENCE:3
DTSTAMP:20260425T111331Z
URL:https://business.fergusfalls.com/events/details/bicycle-ride-for-refugees-07-16-2016-32847
END:VEVENT

END:VCALENDAR
