BEGIN:VCALENDAR
VERSION:2.0
PRODID:-//ChamberMaster//Event Calendar 2.0//EN
METHOD:PUBLISH
X-PUBLISHED-TTL:P3D
REFRESH-INTERVAL:P3D
CALSCALE:GREGORIAN
BEGIN:VEVENT
DTSTART:20191109T040000Z
DTEND:20191109T053000Z
X-MICROSOFT-CDO-ALLDAYEVENT:FALSE
SUMMARY:Big Buck Brunch - MN Governor's Deer Hunting Opener
DESCRIPTION:Fergus Falls is hosting the 2019 Minnesota Governor's Deer Opener. Help us welcome Governor Walz and kick off the hunting season at the Big Buck Brunch.\n\n\n\nTickets are no longer available and will not be sold at the door.
X-ALT-DESC;FMTTYPE=text/html:<div class="_63ew" data-testid="event-permalink-details"><span>Fergus Falls is hosting the 2019 Minnesota Governor&#39\;s Deer Opener. Help us welcome Governor Walz and kick off the hunting season at the Big Buck Brunch.<br />\n<br />\n<u><em>Tickets are no longer available and will not be sold at the door. </em></u></span></div>\n
LOCATION:Bigwood Event Center 925 Western Ave Fergus Falls
UID:e.314.54811
SEQUENCE:3
DTSTAMP:20260422T190707Z
URL:https://business.fergusfalls.com/events/details/big-buck-brunch-mn-governor-s-deer-hunting-opener-54811
END:VEVENT

END:VCALENDAR
